{
 "currentVersion": 10.91,
 "cimVersion": "2.9.0",
 "serviceDescription": "DOP10_2018_ADV",
 "mapName": "Layer",
 "description": "DOP10_2018_ADV",
 "copyrightText": "",
 "supportsDynamicLayers": true,
 "layers": [
  {
   "id": 0,
   "name": "DOP10_2018",
   "parentLayerId": -1,
   "defaultVisibility": true,
   "subLayerIds": null,
   "minScale": 1000000,
   "maxScale": 0,
   "type": "Raster Layer",
   "supportsDynamicLegends": true
  }
 ],
 "tables": [],
 "spatialReference": {
  "wkid": 25832,
  "latestWkid": 25832,
  "xyTolerance": 0.001,
  "zTolerance": 2,
  "mTolerance": 2,
  "falseX": -5120900,
  "falseY": -9998100,
  "xyUnits": 4.504455473910538E8,
  "falseZ": 0,
  "zUnits": 1,
  "falseM": -100000,
  "mUnits": 10000
 },
 "singleFusedMapCache": true,
 "tileInfo": {
  "rows": 256,
  "cols": 256,
  "dpi": 96,
  "format": "PNG8",
  "compressionQuality": 0,
  "origin": {
   "x": -5120900,
   "y": 9998100
  },
  "spatialReference": {
   "wkid": 25832,
   "latestWkid": 25832,
   "xyTolerance": 0.001,
   "zTolerance": 0.001,
   "mTolerance": 0.001,
   "falseX": -5120900,
   "falseY": -9998100,
   "xyUnits": 4.504455473910538E8,
   "falseZ": -100000,
   "zUnits": 10000,
   "falseM": -100000,
   "mUnits": 10000
  },
  "lods": [
   {
    "level": 0,
    "resolution": 4891.96981025128,
    "scale": 1.8489297737240918E7
   },
   {
    "level": 1,
    "resolution": 2445.98490512564,
    "scale": 9244648.868620459
   },
   {
    "level": 2,
    "resolution": 1222.99245256282,
    "scale": 4622324.4343102295
   },
   {
    "level": 3,
    "resolution": 611.49622628141,
    "scale": 2311162.2171551147
   },
   {
    "level": 4,
    "resolution": 305.748113140705,
    "scale": 1155581.1085775574
   },
   {
    "level": 5,
    "resolution": 152.874056570353,
    "scale": 577790.5542887805
   },
   {
    "level": 6,
    "resolution": 76.4370282851763,
    "scale": 288895.2771443895
   },
   {
    "level": 7,
    "resolution": 38.2185141425881,
    "scale": 144447.63857219456
   },
   {
    "level": 8,
    "resolution": 19.1092570712941,
    "scale": 72223.81928609747
   },
   {
    "level": 9,
    "resolution": 9.55462853564703,
    "scale": 36111.90964304866
   },
   {
    "level": 10,
    "resolution": 4.777314267823521,
    "scale": 18055.954821524352
   },
   {
    "level": 11,
    "resolution": 2.3886571339117606,
    "scale": 9027.977410762176
   },
   {
    "level": 12,
    "resolution": 1.1943285669558803,
    "scale": 4513.988705381088
   },
   {
    "level": 13,
    "resolution": 0.597164283477939,
    "scale": 2256.99435269054
   },
   {
    "level": 14,
    "resolution": 0.2985821417389701,
    "scale": 1128.497176345272
   },
   {
    "level": 15,
    "resolution": 0.14929107086948504,
    "scale": 564.248588172636
   }
  ]
 },
 "storageInfo": {
  "storageFormat": "esriMapCacheStorageModeCompactV2",
  "packetSize": 128
 },
 "initialExtent": {
  "xmin": 364534.7867539392,
  "ymin": 5647829.0798454,
  "xmax": 455361.90109600703,
  "ymax": 5719744.976831787,
  "spatialReference": {
   "wkid": 25832,
   "latestWkid": 25832,
   "xyTolerance": 0.001,
   "zTolerance": 2,
   "mTolerance": 2,
   "falseX": -5120900,
   "falseY": -9998100,
   "xyUnits": 4.504455473910538E8,
   "falseZ": 0,
   "zUnits": 1,
   "falseM": -100000,
   "mUnits": 10000
  }
 },
 "fullExtent": {
  "xmin": 389000,
  "ymin": 5658000,
  "xmax": 427000,
  "ymax": 5704000,
  "spatialReference": {
   "wkid": 25832,
   "latestWkid": 25832,
   "xyTolerance": 0.001,
   "zTolerance": 2,
   "mTolerance": 2,
   "falseX": -5120900,
   "falseY": -9998100,
   "xyUnits": 4.504455473910538E8,
   "falseZ": 0,
   "zUnits": 1,
   "falseM": -100000,
   "mUnits": 10000
  }
 },
 "datesInUnknownTimezone": false,
 "minScale": 1.8489297737240918E7,
 "maxScale": 564.248588172636,
 "units": "esriMeters",
 "supportedImageFormatTypes": "PNG32,PNG24,PNG,JPG,DIB,TIFF,EMF,PS,PDF,GIF,SVG,SVGZ,BMP",
 "documentInfo": {
  "Title": "DOP10_2018_ADV.aprx",
  "Author": "",
  "Comments": "DOP10_2018_ADV",
  "Subject": "DOP10_2018_ADV",
  "Category": "",
  "AntialiasingMode": "None",
  "TextAntialiasingMode": "Force",
  "Version": "2.9.0",
  "Keywords": "MK"
 },
 "supportsQueryDomains": true,
 "capabilities": "Map,Query,Data",
 "supportedQueryFormats": "JSON, geoJSON, PBF",
 "exportTilesAllowed": false,
 "referenceScale": 5000.0,
 "datumTransformations": [
  {
   "geoTransforms": [
    {
     "wkid": 108001,
     "latestWkid": 1241,
     "transformForward": true,
     "name": "NAD_1927_To_NAD_1983_NADCON"
    }
   ]
  },
  {
   "geoTransforms": [
    {
     "wkid": 108001,
     "latestWkid": 1241,
     "transformForward": false,
     "name": "NAD_1927_To_NAD_1983_NADCON"
    }
   ]
  }
 ],
 "supportsDatumTransformation": true,
 "archivingInfo": {
  "supportsHistoricMoment": false
 },
 "supportsClipping": true,
 "supportsSpatialFilter": true,
 "supportsTimeRelation": true,
 "supportsQueryDataElements": true,
 "maxRecordCount": 1000,
 "maxImageHeight": 4096,
 "maxImageWidth": 4096,
 "supportedExtensions": ""
}
